BEGIN:VCALENDAR
VERSION:2.0
PRODID:-//DoL - ECPv6.1.2.2//NONSGML v1.0//EN
CALSCALE:GREGORIAN
METHOD:PUBLISH
X-ORIGINAL-URL:https://dol.gov.bt
X-WR-CALDESC:Events for DoL
REFRESH-INTERVAL;VALUE=DURATION:PT1H
X-Robots-Tag:noindex
X-PUBLISHED-TTL:PT1H
BEGIN:VTIMEZONE
TZID:UTC
BEGIN:STANDARD
TZOFFSETFROM:+0000
TZOFFSETTO:+0000
TZNAME:UTC
DTSTART:20230101T000000
END:STANDARD
END:VTIMEZONE
BEGIN:VEVENT
DTSTART;TZID=UTC:20230703T153000
DTEND;TZID=UTC:20230703T170000
DTSTAMP:20260424T145305
CREATED:20230629T165118Z
LAST-MODIFIED:20230629T165118Z
UID:4604-1688398200-1688403600@dol.gov.bt
SUMMARY:NLP Jam Session on the module "Sustaining Momentum"
DESCRIPTION:
URL:https://dol.gov.bt/event/nlp-jam-session-on-the-module-sustaining-momentum/
END:VEVENT
BEGIN:VEVENT
DTSTART;TZID=UTC:20230726T110000
DTEND;TZID=UTC:20230726T130000
DTSTAMP:20260424T145305
CREATED:20230725T162445Z
LAST-MODIFIED:20230725T162445Z
UID:4715-1690369200-1690376400@dol.gov.bt
SUMMARY:Debriefing by Nancy Johnston of Tengri on the Roadmap for Highland Development
DESCRIPTION:
URL:https://dol.gov.bt/event/debriefing-by-nancy-johnston-of-tengri-on-the-roadmap-for-highland-development/
LOCATION:Department of Livestock
END:VEVENT
END:VCALENDAR