BEGIN:VCALENDAR
VERSION:2.0
PRODID:-//DoL - ECPv6.1.2.2//NONSGML v1.0//EN
CALSCALE:GREGORIAN
METHOD:PUBLISH
X-WR-CALNAME:DoL
X-ORIGINAL-URL:https://dol.gov.bt
X-WR-CALDESC:Events for DoL
REFRESH-INTERVAL;VALUE=DURATION:PT1H
X-Robots-Tag:noindex
X-PUBLISHED-TTL:PT1H
BEGIN:VTIMEZONE
TZID:UTC
BEGIN:STANDARD
TZOFFSETFROM:+0000
TZOFFSETTO:+0000
TZNAME:UTC
DTSTART:20230101T000000
END:STANDARD
END:VTIMEZONE
BEGIN:VEVENT
DTSTART;TZID=UTC:20230605T153000
DTEND;TZID=UTC:20230605T173000
DTSTAMP:20260424T160418
CREATED:20230529T111541Z
LAST-MODIFIED:20230529T111849Z
UID:4534-1685979000-1685986200@dol.gov.bt
SUMMARY:NLP Jam Session on the module "BUILDING TRUST"
DESCRIPTION:Link to the module: https://zest.rcsc.gov.bt/NLP/building-trust/scormcontent/index.html#/lessons/DKLRA_tDDs0Q0eIYBgRRxQILF0dKjN_d
URL:https://dol.gov.bt/event/nlp-jam-session-on-the-module-building-trust/
END:VEVENT
BEGIN:VEVENT
DTSTART;TZID=UTC:20230608T080000
DTEND;TZID=UTC:20230609T170000
DTSTAMP:20260424T160418
CREATED:20230608T161258Z
LAST-MODIFIED:20230608T161258Z
UID:4547-1686211200-1686330000@dol.gov.bt
SUMMARY:Consultation on Draft Livestock Bill
DESCRIPTION:
URL:https://dol.gov.bt/event/consultation-on-draft-livestock-bill/
LOCATION:Thimphu Deluxe Hotel
END:VEVENT
BEGIN:VEVENT
DTSTART;VALUE=DATE:20230619
DTEND;VALUE=DATE:20230623
DTSTAMP:20260424T160418
CREATED:20230614T183103Z
LAST-MODIFIED:20230614T183103Z
UID:4564-1687132800-1687478399@dol.gov.bt
SUMMARY:Consultative Meeting to Formulate Reporting Formats for Input farms and Dzongkhag Livestock Sectors
DESCRIPTION:
URL:https://dol.gov.bt/event/consultative-meeting-to-formulate-reporting-formats-for-input-farms-and-dzongkhag-livestock-sectors/
END:VEVENT
BEGIN:VEVENT
DTSTART;TZID=UTC:20230626T153000
DTEND;TZID=UTC:20230626T170000
DTSTAMP:20260424T160418
CREATED:20230625T173500Z
LAST-MODIFIED:20230625T173500Z
UID:4591-1687793400-1687798800@dol.gov.bt
SUMMARY:NLP Jam Session on the module "Change Leadership"
DESCRIPTION:
URL:https://dol.gov.bt/event/nlp-jam-session-on-the-module-change-leadership/
END:VEVENT
BEGIN:VEVENT
DTSTART;TZID=UTC:20230627T080000
DTEND;TZID=UTC:20230627T170000
DTSTAMP:20260424T160418
CREATED:20230625T173559Z
LAST-MODIFIED:20230625T173559Z
UID:4593-1687852800-1687885200@dol.gov.bt
SUMMARY:In-house Meeting to validate the NSB 2022 Data
DESCRIPTION:
URL:https://dol.gov.bt/event/in-house-meeting-to-validate-the-nsb-2022-data/
END:VEVENT
BEGIN:VEVENT
DTSTART;TZID=UTC:20230629T080000
DTEND;TZID=UTC:20230629T170000
DTSTAMP:20260424T160418
CREATED:20230625T173703Z
LAST-MODIFIED:20230625T173703Z
UID:4596-1688025600-1688058000@dol.gov.bt
SUMMARY:Meeting with NSB to harmonize the data reporting mechanism
DESCRIPTION:
URL:https://dol.gov.bt/event/meeting-with-nsb-to-harmonize-the-data-reporting-mechanism/
END:VEVENT
END:VCALENDAR