BEGIN:VCALENDAR
VERSION:2.0
PRODID:-//DoL - ECPv6.1.2.2//NONSGML v1.0//EN
CALSCALE:GREGORIAN
METHOD:PUBLISH
X-WR-CALNAME:DoL
X-ORIGINAL-URL:https://dol.gov.bt
X-WR-CALDESC:Events for DoL
REFRESH-INTERVAL;VALUE=DURATION:PT1H
X-Robots-Tag:noindex
X-PUBLISHED-TTL:PT1H
BEGIN:VTIMEZONE
TZID:UTC
BEGIN:STANDARD
TZOFFSETFROM:+0000
TZOFFSETTO:+0000
TZNAME:UTC
DTSTART:20230101T000000
END:STANDARD
END:VTIMEZONE
BEGIN:VEVENT
DTSTART;TZID=UTC:20230501T153000
DTEND;TZID=UTC:20230501T170000
DTSTAMP:20260422T225005
CREATED:20230427T115024Z
LAST-MODIFIED:20230427T115024Z
UID:4201-1682955000-1682960400@dol.gov.bt
SUMMARY:NLP Jam Session on the Module - Performance Collaboration
DESCRIPTION:The participants can view the module through this LINK
URL:https://dol.gov.bt/event/nlp-jam-session-on-the-module-performance-collaboration/
END:VEVENT
BEGIN:VEVENT
DTSTART;TZID=UTC:20230426T153000
DTEND;TZID=UTC:20230426T170000
DTSTAMP:20260422T225005
CREATED:20230418T174826Z
LAST-MODIFIED:20230424T104405Z
UID:3767-1682523000-1682528400@dol.gov.bt
SUMMARY:NLP Jam Session - Module: Five-Star Team
DESCRIPTION:Five-Star Teams are built as teams work together to learn and improve. Learning this tool will be different than the other tools. First\, you will go through the module by yourself. Then you will lead your team through the module—together—so that everyone can learn and make decisions about your team Results\, Roles\, Rules\, and more. 
URL:https://dol.gov.bt/event/nlp-jam-session-module-five-star-team/
LOCATION:Virtual
END:VEVENT
BEGIN:VEVENT
DTSTART;TZID=UTC:20230419T093000
DTEND;TZID=UTC:20230419T110000
DTSTAMP:20260422T225005
CREATED:20230418T165059Z
LAST-MODIFIED:20230419T113453Z
UID:3748-1681896600-1681902000@dol.gov.bt
SUMMARY:JSB-UNDP Project Finalization (In-House Meeting)
DESCRIPTION:Stakeholder briefing on the details of Japanese Supplementary Budget (JSB)-UNDP Project IV titled “Support to collectively respond to the climate emergency and establish resilient development pathways for sustaining human security and green transformation” \nAreas of Support: \n\nEstablishment of cold chain stores in Samrang and Tsirang to strengthen the meat value chain;\nPromotion of free flow honey production at farmers level;\nEstablishment of Dairy Cold Store in Haa\nEstablishment & installation of meat blast freezers in Dagana\, Samrang\, Samtse\, Tsirang\, and Sarpang
URL:https://dol.gov.bt/event/jsb-undp-project-finalization-in-house-meeting/
LOCATION:Department of Livestock
END:VEVENT
END:VCALENDAR