BEGIN:VCALENDAR
VERSION:2.0
PRODID:-//DoL - ECPv6.1.2.2//NONSGML v1.0//EN
CALSCALE:GREGORIAN
METHOD:PUBLISH
X-WR-CALNAME:DoL
X-ORIGINAL-URL:https://dol.gov.bt
X-WR-CALDESC:Events for DoL
REFRESH-INTERVAL;VALUE=DURATION:PT1H
X-Robots-Tag:noindex
X-PUBLISHED-TTL:PT1H
BEGIN:VTIMEZONE
TZID:UTC
BEGIN:STANDARD
TZOFFSETFROM:+0000
TZOFFSETTO:+0000
TZNAME:UTC
DTSTART:20240101T000000
END:STANDARD
END:VTIMEZONE
BEGIN:VEVENT
DTSTART;TZID=UTC:20240205T093000
DTEND;TZID=UTC:20240205T113000
DTSTAMP:20260422T215309
CREATED:20240201T094404Z
LAST-MODIFIED:20240201T094404Z
UID:5150-1707125400-1707132600@dol.gov.bt
SUMMARY:First Fortnightly Meeting with the Centres and Farms
DESCRIPTION:
URL:https://dol.gov.bt/event/first-fortnightly-meeting-with-the-centres-and-farms/
END:VEVENT
END:VCALENDAR