BEGIN:VCALENDAR
VERSION:2.0
PRODID:-//DoL - ECPv6.1.2.2//NONSGML v1.0//EN
CALSCALE:GREGORIAN
METHOD:PUBLISH
X-WR-CALNAME:DoL
X-ORIGINAL-URL:https://dol.gov.bt
X-WR-CALDESC:Events for DoL
REFRESH-INTERVAL;VALUE=DURATION:PT1H
X-Robots-Tag:noindex
X-PUBLISHED-TTL:PT1H
BEGIN:VTIMEZONE
TZID:UTC
BEGIN:STANDARD
TZOFFSETFROM:+0000
TZOFFSETTO:+0000
TZNAME:UTC
DTSTART:20230101T000000
END:STANDARD
END:VTIMEZONE
BEGIN:VEVENT
DTSTART;TZID=UTC:20231004T080000
DTEND;TZID=UTC:20231008T170000
DTSTAMP:20260424T120904
CREATED:20230927T031537Z
LAST-MODIFIED:20230927T031537Z
UID:4955-1696406400-1696784400@dol.gov.bt
SUMMARY:Development of System Requirement Specifications (SRS) for the Farm Registration System (with technical officials from GovTech)
DESCRIPTION:
URL:https://dol.gov.bt/event/development-of-system-requirement-specifications-srs-for-the-farm-registration-system-with-technical-officials-from-govtech/
LOCATION:Bumthang
END:VEVENT
END:VCALENDAR