BEGIN:VCALENDAR
VERSION:2.0
PRODID:-//DoL - ECPv6.1.2.2//NONSGML v1.0//EN
CALSCALE:GREGORIAN
METHOD:PUBLISH
X-ORIGINAL-URL:https://dol.gov.bt
X-WR-CALDESC:Events for DoL
REFRESH-INTERVAL;VALUE=DURATION:PT1H
X-Robots-Tag:noindex
X-PUBLISHED-TTL:PT1H
BEGIN:VTIMEZONE
TZID:UTC
BEGIN:STANDARD
TZOFFSETFROM:+0000
TZOFFSETTO:+0000
TZNAME:UTC
DTSTART:20230101T000000
END:STANDARD
END:VTIMEZONE
BEGIN:VEVENT
DTSTART;VALUE=DATE:20230619
DTEND;VALUE=DATE:20230623
DTSTAMP:20260424T172553
CREATED:20230614T183103Z
LAST-MODIFIED:20230614T183103Z
UID:4564-1687132800-1687478399@dol.gov.bt
SUMMARY:Consultative Meeting to Formulate Reporting Formats for Input farms and Dzongkhag Livestock Sectors
DESCRIPTION:
URL:https://dol.gov.bt/event/consultative-meeting-to-formulate-reporting-formats-for-input-farms-and-dzongkhag-livestock-sectors/
END:VEVENT
END:VCALENDAR