BEGIN:VCALENDAR
VERSION:2.0
PRODID:-//DoL - ECPv6.1.2.2//NONSGML v1.0//EN
CALSCALE:GREGORIAN
METHOD:PUBLISH
X-WR-CALNAME:DoL
X-ORIGINAL-URL:https://dol.gov.bt
X-WR-CALDESC:Events for DoL
REFRESH-INTERVAL;VALUE=DURATION:PT1H
X-Robots-Tag:noindex
X-PUBLISHED-TTL:PT1H
BEGIN:VTIMEZONE
TZID:UTC
BEGIN:STANDARD
TZOFFSETFROM:+0000
TZOFFSETTO:+0000
TZNAME:UTC
DTSTART:20230101T000000
END:STANDARD
END:VTIMEZONE
BEGIN:VEVENT
DTSTART;TZID=UTC:20230608T080000
DTEND;TZID=UTC:20230609T170000
DTSTAMP:20260424T172540
CREATED:20230608T161258Z
LAST-MODIFIED:20230608T161258Z
UID:4547-1686211200-1686330000@dol.gov.bt
SUMMARY:Consultation on Draft Livestock Bill
DESCRIPTION:
URL:https://dol.gov.bt/event/consultation-on-draft-livestock-bill/
LOCATION:Thimphu Deluxe Hotel
END:VEVENT
END:VCALENDAR