BEGIN:VCALENDAR
VERSION:2.0
PRODID:-//DoL - ECPv6.1.2.2//NONSGML v1.0//EN
CALSCALE:GREGORIAN
METHOD:PUBLISH
X-WR-CALNAME:DoL
X-ORIGINAL-URL:https://dol.gov.bt
X-WR-CALDESC:Events for DoL
REFRESH-INTERVAL;VALUE=DURATION:PT1H
X-Robots-Tag:noindex
X-PUBLISHED-TTL:PT1H
BEGIN:VTIMEZONE
TZID:UTC
BEGIN:STANDARD
TZOFFSETFROM:+0000
TZOFFSETTO:+0000
TZNAME:UTC
DTSTART:20230101T000000
END:STANDARD
END:VTIMEZONE
BEGIN:VEVENT
DTSTART;TZID=UTC:20230515T153000
DTEND;TZID=UTC:20230515T170000
DTSTAMP:20260424T183727
CREATED:20230508T111612Z
LAST-MODIFIED:20230508T111702Z
UID:4301-1684164600-1684170000@dol.gov.bt
SUMMARY:NLP Jam Session on the module: "Agile Problem Solving"
DESCRIPTION:LINK TO MODULE
URL:https://dol.gov.bt/event/nlp-jam-session-on-the-module-agile-problem-solving/
END:VEVENT
END:VCALENDAR