BEGIN:VCALENDAR
VERSION:2.0
PRODID:-//DoL - ECPv6.1.2.2//NONSGML v1.0//EN
CALSCALE:GREGORIAN
METHOD:PUBLISH
X-WR-CALNAME:DoL
X-ORIGINAL-URL:https://dol.gov.bt
X-WR-CALDESC:Events for DoL
REFRESH-INTERVAL;VALUE=DURATION:PT1H
X-Robots-Tag:noindex
X-PUBLISHED-TTL:PT1H
BEGIN:VTIMEZONE
TZID:UTC
BEGIN:STANDARD
TZOFFSETFROM:+0000
TZOFFSETTO:+0000
TZNAME:UTC
DTSTART:20230101T000000
END:STANDARD
END:VTIMEZONE
BEGIN:VEVENT
DTSTART;TZID=UTC:20230504T140000
DTEND;TZID=UTC:20230504T170000
DTSTAMP:20260424T183717
CREATED:20230429T064331Z
LAST-MODIFIED:20230429T064359Z
UID:4225-1683208800-1683219600@dol.gov.bt
SUMMARY:14th Technical Departmental Meeting with the Ministry
DESCRIPTION:It’s a monthly meeting chaired by Dasho Secretary with the technical departments of the Ministry to take stock and update the progress made thus far.
URL:https://dol.gov.bt/event/14th-technical-departmental-meeting-with-the-ministry/
END:VEVENT
END:VCALENDAR