BEGIN:VCALENDAR
VERSION:2.0
PRODID:-//DoL - ECPv6.1.2.2//NONSGML v1.0//EN
CALSCALE:GREGORIAN
METHOD:PUBLISH
X-WR-CALNAME:DoL
X-ORIGINAL-URL:https://dol.gov.bt
X-WR-CALDESC:Events for DoL
REFRESH-INTERVAL;VALUE=DURATION:PT1H
X-Robots-Tag:noindex
X-PUBLISHED-TTL:PT1H
BEGIN:VTIMEZONE
TZID:UTC
BEGIN:STANDARD
TZOFFSETFROM:+0000
TZOFFSETTO:+0000
TZNAME:UTC
DTSTART:20230101T000000
END:STANDARD
END:VTIMEZONE
BEGIN:VEVENT
DTSTART;TZID=UTC:20230503T104000
DTEND;TZID=UTC:20230503T130000
DTSTAMP:20260424T183727
CREATED:20230421T113026Z
LAST-MODIFIED:20230425T033816Z
UID:3922-1683110400-1683118800@dol.gov.bt
SUMMARY:Inauguration of New Liquid Nitrogen (LN2) Plant at NDDC\, Yusipang
DESCRIPTION:The occasion will be graced by His Excellency Hon’ble Sanam Lyonpo\, and attended by Dasho Secretary (MoAL)\, Director (DoL)\, representatives from Embassy of India in Bhutan\, and other senior officials from the Ministry.
URL:https://dol.gov.bt/event/inauguration-of-new-liquid-nitrogen-ln2-plant-at-nddc-yusipang/
LOCATION:NDDC\, Yusipang
END:VEVENT
END:VCALENDAR